BEGIN:VCALENDAR
VERSION:2.0
PRODID:SchoolNow
CALSCALE:GREGORIAN
BEGIN:VEVENT
UID:b011de06-d30e-11ee-8708-0a58a9feac02
DTSTAMP:20240224T121733Z
SUMMARY:Photography Club
URL;VALUE=URI:https://www.wildernesslakecdd.org/calendar/5394514/photograph
 y-club
DTSTART:20240306T230000Z
DTEND:20240307T000000Z
END:VEVENT
END:VCALENDAR
