BEGIN:VCALENDAR
VERSION:2.0
PRODID:SchoolNow
CALSCALE:GREGORIAN
BEGIN:VEVENT
UID:971cce2e-d30e-11ee-a872-0a58a9feac02
DTSTAMP:20240224T121651Z
SUMMARY:Story Time - Mar. 25th
URL;VALUE=URI:https://www.wildernesslakecdd.org/calendar/5394513/story-time
 -mar-25th
DTSTART:20240325T140000Z
DTEND:20240325T150000Z
END:VEVENT
END:VCALENDAR
