BEGIN:VCALENDAR
VERSION:2.0
PRODID:SchoolNow
CALSCALE:GREGORIAN
BEGIN:VEVENT
UID:8d88f342-d30e-11ee-ba55-0a58a9feac02
DTSTAMP:20240224T121635Z
SUMMARY:Story Time - Mar. 18th
URL;VALUE=URI:https://www.wildernesslakecdd.org/calendar/5394512/story-time
 -mar-18th
DTSTART:20240318T140000Z
DTEND:20240318T150000Z
END:VEVENT
END:VCALENDAR
