BEGIN:VCALENDAR
VERSION:2.0
PRODID:SchoolNow
CALSCALE:GREGORIAN
BEGIN:VEVENT
UID:82f3eb08-d30e-11ee-a2f3-0e6bf2a7eeed
DTSTAMP:20240224T121617Z
SUMMARY:Story Time - Mar. 11th
URL;VALUE=URI:https://www.wildernesslakecdd.org/calendar/5394511/story-time
 -mar-11th
DTSTART:20240311T140000Z
DTEND:20240311T150000Z
END:VEVENT
END:VCALENDAR
