BEGIN:VCALENDAR
VERSION:2.0
PRODID:SchoolNow
CALSCALE:GREGORIAN
BEGIN:VEVENT
UID:7729ed7c-d30e-11ee-acd0-0e6bf2a7eeed
DTSTAMP:20240224T121557Z
SUMMARY:Story Time - Mar. 5th
URL;VALUE=URI:https://www.wildernesslakecdd.org/calendar/5394510/story-time
 -mar-5th
DTSTART:20240305T150000Z
DTEND:20240305T160000Z
END:VEVENT
END:VCALENDAR
