BEGIN:VCALENDAR
VERSION:2.0
PRODID:SchoolNow
CALSCALE:GREGORIAN
BEGIN:VEVENT
UID:59bd5666-d30e-11ee-9163-0a58a9feac02
DTSTAMP:20240224T121508Z
SUMMARY:Dr. Seuss Birthday Bash
URL;VALUE=URI:https://www.wildernesslakecdd.org/calendar/5394509/dr-seuss-b
 irthday-bash
DTSTART:20240302T220000Z
DTEND:20240302T230000Z
END:VEVENT
END:VCALENDAR
