BEGIN:VCALENDAR
VERSION:2.0
PRODID:SchoolNow
CALSCALE:GREGORIAN
BEGIN:VEVENT
UID:27230c78-d30e-11ee-b82b-021865effe9f
DTSTAMP:20240314T155502Z
SUMMARY:Lodge Closed for Observance of Easter - Mar. 31st
URL;VALUE=URI:https://www.wildernesslakecdd.org/calendar/5394508/lodge-clos
 ed-for-observance-of-easter
DTSTART;VALUE=DATE:20240331
DTEND;VALUE=DATE:20240401
END:VEVENT
END:VCALENDAR
