BEGIN:VCALENDAR
VERSION:2.0
PRODID:SchoolNow
CALSCALE:GREGORIAN
BEGIN:VEVENT
UID:0abeea16-d30e-11ee-ac62-0a58a9feac02
DTSTAMP:20240727T182925Z
SUMMARY:Craft Fair - Jul. 27th
LOCATION:Lodge\, Activities Center\, Nature Center
URL;VALUE=URI:https://www.wildernesslakecdd.org/calendar/5394507/craft-fair
DTSTART:20240727T140000Z
DTEND:20240727T200000Z
END:VEVENT
END:VCALENDAR
