BEGIN:VCALENDAR
VERSION:2.0
PRODID:SchoolNow
CALSCALE:GREGORIAN
BEGIN:VEVENT
UID:f6305922-d30d-11ee-8508-021865effe9f
DTSTAMP:20240402T185303Z
SUMMARY:Pool Party & BBQ - Jul. 4th
URL;VALUE=URI:https://www.wildernesslakecdd.org/calendar/5394506/pool-party
 -bbq
DTSTART:20240704T160000Z
DTEND:20240704T170000Z
END:VEVENT
END:VCALENDAR
