BEGIN:VCALENDAR
VERSION:2.0
PRODID:SchoolNow
CALSCALE:GREGORIAN
BEGIN:VEVENT
UID:b163f63c-d30d-11ee-8425-0a58a9feac02
DTSTAMP:20240402T185339Z
SUMMARY:Pool Party - Jun. 8th
URL;VALUE=URI:https://www.wildernesslakecdd.org/calendar/5394505/pool-party
DTSTART:20240608T160000Z
DTEND:20240608T180000Z
END:VEVENT
END:VCALENDAR
