BEGIN:VCALENDAR
VERSION:2.0
PRODID:SchoolNow
CALSCALE:GREGORIAN
BEGIN:VEVENT
UID:8cfa5fac-d30d-11ee-921b-0afffe21d4b3
DTSTAMP:20240710T174809Z
SUMMARY:Sip & Paint - July 19th
LOCATION:Activities Center
URL;VALUE=URI:https://www.wildernesslakecdd.org/calendar/5394504/sip-paint-
 jul-19th
DTSTART:20240720T000000Z
DTEND:20240720T010000Z
END:VEVENT
END:VCALENDAR
