BEGIN:VCALENDAR
VERSION:2.0
PRODID:SchoolNow
CALSCALE:GREGORIAN
BEGIN:VEVENT
UID:76a2bfa6-d30d-11ee-9275-0a58a9feac02
DTSTAMP:20240402T183737Z
SUMMARY:Sip & Paint - Jun. 7th
URL;VALUE=URI:https://www.wildernesslakecdd.org/calendar/5394503/sip-paint-
 jun-7th
DTSTART:20240607T220000Z
DTEND:20240608T003000Z
END:VEVENT
END:VCALENDAR
