BEGIN:VCALENDAR
VERSION:2.0
PRODID:SchoolNow
CALSCALE:GREGORIAN
BEGIN:VEVENT
UID:5ca25c7e-d30d-11ee-bf29-021865effe9f
DTSTAMP:20240507T174926Z
SUMMARY:Business Expo - May 18th - Canceled
URL;VALUE=URI:https://www.wildernesslakecdd.org/calendar/5394502/business-e
 xpo
DTSTART:20240518T140000Z
DTEND:20240518T190000Z
END:VEVENT
END:VCALENDAR
