BEGIN:VCALENDAR
VERSION:2.0
PRODID:SchoolNow
CALSCALE:GREGORIAN
BEGIN:VEVENT
UID:4adddca2-d30d-11ee-897c-0a58a9feac02
DTSTAMP:20240314T185858Z
SUMMARY:Cinco De Mayo Happy Hour - May 3rd
URL;VALUE=URI:https://www.wildernesslakecdd.org/calendar/5394501/cinco-de-m
 ayo-happy-hour
DTSTART:20240503T223000Z
DTEND:20240503T233000Z
END:VEVENT
END:VCALENDAR
