BEGIN:VCALENDAR
VERSION:2.0
PRODID:SchoolNow
CALSCALE:GREGORIAN
BEGIN:VEVENT
UID:33596484-d30d-11ee-8dac-0a58a9feac02
DTSTAMP:20240402T182910Z
SUMMARY:Wood Crafting - Apr. 20th
URL;VALUE=URI:https://www.wildernesslakecdd.org/calendar/5394500/wood-craft
 ing
DTSTART:20240420T210000Z
DTEND:20240421T010000Z
END:VEVENT
END:VCALENDAR
