BEGIN:VCALENDAR
VERSION:2.0
PRODID:SchoolNow
CALSCALE:GREGORIAN
BEGIN:VEVENT
UID:197250ee-d30d-11ee-9275-0afffe21d4b3
DTSTAMP:20240409T132445Z
SUMMARY:Community Garage Sale - Apr. 13th
URL;VALUE=URI:https://www.wildernesslakecdd.org/calendar/5394499/community-
 garage-sale
DTSTART:20240413T120000Z
DTEND:20240413T190000Z
END:VEVENT
END:VCALENDAR
