BEGIN:VCALENDAR
VERSION:2.0
PRODID:SchoolNow
CALSCALE:GREGORIAN
BEGIN:VEVENT
UID:dc528d64-ca9c-11ee-ab01-0a58a9feac02
DTSTAMP:20240516T203915Z
SUMMARY:Memorial Day BBQ  - May 25th
URL;VALUE=URI:https://www.wildernesslakecdd.org/calendar/5321291/memorial-d
 ay-bbq-may-25th
DTSTART:20240525T160000Z
DTEND:20240525T190000Z
ATTACH;FILENAME=Memorial Day BBQ Flier.jpg;FMTTYPE=image/jpeg:https://campu
 ssuite-storage.s3.amazonaws.com/prod/1558874/21caec5e-ea98-11e9-8581-0a20d
 2c7fac4/2788880/fdef3c0e-13c3-11ef-95ab-0a58a9feac02/file/Memorial Day BBQ
  Flier.jpg
END:VEVENT
END:VCALENDAR
