BEGIN:VCALENDAR
VERSION:2.0
PRODID:SchoolNow
CALSCALE:GREGORIAN
BEGIN:VEVENT
UID:c776329c-ca9c-11ee-aa6c-0a58a9feac02
DTSTAMP:20240213T182200Z
SUMMARY:Mother’s Day Celebration - May 11th
URL;VALUE=URI:https://www.wildernesslakecdd.org/calendar/5321290/mother-s-d
 ay-celebration-may-11th
DTSTART:20240511T180000Z
DTEND:20240511T190000Z
END:VEVENT
END:VCALENDAR
