BEGIN:VCALENDAR
VERSION:2.0
PRODID:SchoolNow
CALSCALE:GREGORIAN
BEGIN:VEVENT
UID:b8cd138c-ca9c-11ee-b4c7-0a58a9feac02
DTSTAMP:20240213T182135Z
SUMMARY:Sip & Paint - May 10th
URL;VALUE=URI:https://www.wildernesslakecdd.org/calendar/5321289/sip-paint-
 may-10th
DTSTART:20240510T220000Z
DTEND:20240510T230000Z
END:VEVENT
END:VCALENDAR
