BEGIN:VCALENDAR
VERSION:2.0
PRODID:SchoolNow
CALSCALE:GREGORIAN
BEGIN:VEVENT
UID:8fde8e3e-ca9b-11ee-89b3-0a58a9feac02
DTSTAMP:20240224T122241Z
SUMMARY:Spring Picnic & Egg Hunts  - Mar. 30th (See event for details)
URL;VALUE=URI:https://www.wildernesslakecdd.org/calendar/5321283/spring-pic
 nic-egg-hunts-mar-30th
DTSTART;VALUE=DATE:20240330
DTEND;VALUE=DATE:20240331
END:VEVENT
END:VCALENDAR
