BEGIN:VCALENDAR
VERSION:2.0
PRODID:SchoolNow
CALSCALE:GREGORIAN
BEGIN:VEVENT
UID:7a641a2e-ca9b-11ee-88fa-0a58a9feac02
DTSTAMP:20240224T122305Z
SUMMARY:St. Patty’s Day Happy Hour - Mar. 16th
URL;VALUE=URI:https://www.wildernesslakecdd.org/calendar/5321282/st-patty-s
 -day-happy-hour-mar-16th
DTSTART:20240316T220000Z
DTEND:20240316T230000Z
END:VEVENT
END:VCALENDAR
