BEGIN:VCALENDAR
VERSION:2.0
PRODID:SchoolNow
CALSCALE:GREGORIAN
BEGIN:VEVENT
UID:5e1047c6-ca9b-11ee-9d6d-02ef1e3efced
DTSTAMP:20240309T201415Z
SUMMARY:Sip & Paint - Mar. 15th
LOCATION:Activity Center
URL;VALUE=URI:https://www.wildernesslakecdd.org/calendar/5321281/sip-paint-
 mar-15th
DTSTART:20240315T233000Z
DTEND:20240316T003000Z
END:VEVENT
END:VCALENDAR
