BEGIN:VCALENDAR
VERSION:2.0
PRODID:SchoolNow
CALSCALE:GREGORIAN
BEGIN:VEVENT
UID:358cb988-ca9b-11ee-926b-0a6967fc2177
DTSTAMP:20240213T181700Z
SUMMARY:Ladies Night - Mar. 1st
URL;VALUE=URI:https://www.wildernesslakecdd.org/calendar/5321279/ladies-nig
 ht-mar-1st
DTSTART:20240301T233000Z
DTEND:20240302T003000Z
END:VEVENT
END:VCALENDAR
