BEGIN:VCALENDAR
VERSION:2.0
PRODID:SchoolNow
CALSCALE:GREGORIAN
BEGIN:VEVENT
UID:232aee18-ca9b-11ee-aaf4-0a58a9feac02
DTSTAMP:20240213T182010Z
SUMMARY:HOA Mtg. - Feb. 2024
URL;VALUE=URI:https://www.wildernesslakecdd.org/calendar/5321278/hoa-mtg-fe
 b-2024
DTSTART:20240227T233000Z
DTEND:20240228T003000Z
END:VEVENT
END:VCALENDAR
