BEGIN:VCALENDAR
VERSION:2.0
PRODID:SchoolNow
CALSCALE:GREGORIAN
BEGIN:VEVENT
UID:0357ed84-ca9b-11ee-a8a2-0a58a9feac02
DTSTAMP:20240213T181928Z
SUMMARY:ARC Mtg. - Feb. 2024
URL;VALUE=URI:https://www.wildernesslakecdd.org/calendar/5321277/arc-mtg-fe
 b-2024
DTSTART:20240226T233000Z
DTEND:20240227T003000Z
END:VEVENT
END:VCALENDAR
