BEGIN:VCALENDAR
VERSION:2.0
PRODID:SchoolNow
CALSCALE:GREGORIAN
BEGIN:VEVENT
UID:ea95963e-ca9a-11ee-9b99-0a58a9feac02
DTSTAMP:20240213T181843Z
SUMMARY:Comedy Show - Feb. 24th
URL;VALUE=URI:https://www.wildernesslakecdd.org/calendar/5321276/comedy-sho
 w-feb-24th
DTSTART:20240225T000000Z
DTEND:20240225T010000Z
END:VEVENT
END:VCALENDAR
