BEGIN:VCALENDAR
VERSION:2.0
PRODID:SchoolNow
CALSCALE:GREGORIAN
BEGIN:VEVENT
UID:d73350f4-ca9a-11ee-85a7-0a6967fc2177
DTSTAMP:20240213T181833Z
SUMMARY:Ice Cream Social - Feb. 19th
URL;VALUE=URI:https://www.wildernesslakecdd.org/calendar/5321275/ice-cream-
 social-feb-19th
DTSTART:20240219T180000Z
DTEND:20240219T190000Z
END:VEVENT
END:VCALENDAR
