BEGIN:VCALENDAR
VERSION:2.0
PRODID:SchoolNow
CALSCALE:GREGORIAN
BEGIN:VEVENT
UID:c4cccc42-ca9a-11ee-861c-020a3744bdcd
DTSTAMP:20240213T181811Z
SUMMARY:Family Movie Night - Feb. 17th
URL;VALUE=URI:https://www.wildernesslakecdd.org/calendar/5321274/family-mov
 ie-night-feb-17th
DTSTART:20240218T000000Z
DTEND:20240218T010000Z
END:VEVENT
END:VCALENDAR
