BEGIN:VCALENDAR
VERSION:2.0
PRODID:SchoolNow
CALSCALE:GREGORIAN
BEGIN:VEVENT
UID:b3201ce2-ca9a-11ee-aeae-02968f7ffbf1
DTSTAMP:20240213T181823Z
SUMMARY:Art Class - Feb. 17th
URL;VALUE=URI:https://www.wildernesslakecdd.org/calendar/5321273/art-class-
 feb-17th
DTSTART:20240217T233000Z
DTEND:20240218T003000Z
END:VEVENT
END:VCALENDAR
