BEGIN:VCALENDAR
VERSION:2.0
PRODID:SchoolNow
CALSCALE:GREGORIAN
BEGIN:VEVENT
UID:40e865ac-c9ba-11ee-9a0e-0a58a9feac02
DTSTAMP:20240314T155429Z
SUMMARY:CDD Budget Workshop - Mar. 19th
LOCATION:The Preserve at Wilderness Lake Lodge\, located at 21320 Wildernes
 s Lake Boulevard\, Land O' Lakes\, FL 34637.
URL;VALUE=URI:https://www.wildernesslakecdd.org/calendar/5313521/cdd-budget
 -workshop-march-2024
DTSTART:20240319T133000Z
DTEND:20240319T183000Z
ATTACH;FILENAME=2024-03-19 Workshop Agenda Package.pdf;FMTTYPE=application/
 pdf:https://campussuite-storage.s3.amazonaws.com/prod/1558874/21caec5e-ea9
 8-11e9-8581-0a20d2c7fac4/2756172/181f4070-e0b5-11ee-9693-0a58a9feac02/file
 /2024-03-19 Workshop Agenda Package.pdf
END:VEVENT
END:VCALENDAR
