BEGIN:VCALENDAR
VERSION:2.0
PRODID:SchoolNow
CALSCALE:GREGORIAN
BEGIN:VEVENT
UID:7d9b7eb6-952c-11ee-b4d6-0ec406b97dad
DTSTAMP:20231207T181441Z
SUMMARY:Comedy Show - Jan. 27th
URL;VALUE=URI:https://www.wildernesslakecdd.org/calendar/4988367/comedy-sho
 w-jan-27th
DTSTART:20240128T000000Z
DTEND:20240128T010000Z
END:VEVENT
END:VCALENDAR
