BEGIN:VCALENDAR
VERSION:2.0
PRODID:SchoolNow
CALSCALE:GREGORIAN
BEGIN:VEVENT
UID:5f1a16e6-952c-11ee-9ac9-0af0ac107d93
DTSTAMP:20231207T181350Z
SUMMARY:Spaghetti Dinner
URL;VALUE=URI:https://www.wildernesslakecdd.org/calendar/4988366/spaghetti-
 dinner
DTSTART:20240126T230000Z
DTEND:20240127T000000Z
END:VEVENT
END:VCALENDAR
