BEGIN:VCALENDAR
VERSION:2.0
PRODID:SchoolNow
CALSCALE:GREGORIAN
BEGIN:VEVENT
UID:4b4b0ba2-952c-11ee-87f9-0a58a9feac02
DTSTAMP:20231207T181316Z
SUMMARY:HOA Meeting - Jan. 23rd
URL;VALUE=URI:https://www.wildernesslakecdd.org/calendar/4988365/hoa-meetin
 g-jan-23rd
DTSTART:20240123T233000Z
DTEND:20240124T003000Z
END:VEVENT
END:VCALENDAR
