BEGIN:VCALENDAR
VERSION:2.0
PRODID:SchoolNow
CALSCALE:GREGORIAN
BEGIN:VEVENT
UID:2886fc8e-952c-11ee-b95b-0a58a9feac02
DTSTAMP:20231207T181218Z
SUMMARY:Comedy Show - Jan. 6th
URL;VALUE=URI:https://www.wildernesslakecdd.org/calendar/4988364/comedy-sho
 w-jan-6th
DTSTART:20240107T000000Z
DTEND:20240107T010000Z
END:VEVENT
END:VCALENDAR
