BEGIN:VCALENDAR
VERSION:2.0
PRODID:SchoolNow
CALSCALE:GREGORIAN
BEGIN:VEVENT
UID:0d3aeaa8-952c-11ee-b299-0a58a9feac02
DTSTAMP:20231207T181132Z
SUMMARY:Taco Dinner
URL;VALUE=URI:https://www.wildernesslakecdd.org/calendar/4988363/taco-dinne
 r
DTSTART:20240105T220000Z
DTEND:20240106T000000Z
END:VEVENT
END:VCALENDAR
