BEGIN:VCALENDAR
VERSION:2.0
PRODID:SchoolNow
CALSCALE:GREGORIAN
BEGIN:VEVENT
UID:f710720c-952b-11ee-ba3d-0a58a9feac02
DTSTAMP:20231207T181055Z
SUMMARY:Lodge Closed - Jan. 1st
URL;VALUE=URI:https://www.wildernesslakecdd.org/calendar/4988362/lodge-clos
 ed-jan-1st
DTSTART;VALUE=DATE:20240101
DTEND;VALUE=DATE:20240102
END:VEVENT
END:VCALENDAR
