BEGIN:VCALENDAR
VERSION:2.0
PRODID:SchoolNow
CALSCALE:GREGORIAN
BEGIN:VEVENT
UID:e86b4e3e-952b-11ee-b6e5-0a58a9feac02
DTSTAMP:20231207T181031Z
SUMMARY:Lodge Closed - Dec. 31st
URL;VALUE=URI:https://www.wildernesslakecdd.org/calendar/4988361/lodge-clos
 ed-dec-31st
DTSTART;VALUE=DATE:20231231
DTEND;VALUE=DATE:20240101
END:VEVENT
END:VCALENDAR
