BEGIN:VCALENDAR
VERSION:2.0
PRODID:SchoolNow
CALSCALE:GREGORIAN
BEGIN:VEVENT
UID:cd55090a-952b-11ee-8b50-0a58a9feac02
DTSTAMP:20231207T180945Z
SUMMARY:Bounce in the New Year
URL;VALUE=URI:https://www.wildernesslakecdd.org/calendar/4988360/bounce-in-
 the-new-year
DTSTART:20231230T180000Z
DTEND:20231230T220000Z
END:VEVENT
END:VCALENDAR
