BEGIN:VCALENDAR
VERSION:2.0
PRODID:SchoolNow
CALSCALE:GREGORIAN
BEGIN:VEVENT
UID:b1fa9eae-952b-11ee-89d8-0a58a9feac02
DTSTAMP:20231207T180859Z
SUMMARY:Lodge Hours - Dec. 26th - Noon – 9pm
URL;VALUE=URI:https://www.wildernesslakecdd.org/calendar/4988359/lodge-hour
 s-dec-26th-noon-9pm
DTSTART;VALUE=DATE:20231226
DTEND;VALUE=DATE:20231227
END:VEVENT
END:VCALENDAR
