BEGIN:VCALENDAR
VERSION:2.0
PRODID:SchoolNow
CALSCALE:GREGORIAN
BEGIN:VEVENT
UID:8b3ef300-952b-11ee-83cb-0a58a9feac02
DTSTAMP:20231207T180754Z
SUMMARY:Lodge Hours for Dec. 24th - Noon – 3pm
URL;VALUE=URI:https://www.wildernesslakecdd.org/calendar/4988357/lodge-hour
 s-for-dec-24th-noon-3pm
DTSTART;VALUE=DATE:20231224
DTEND;VALUE=DATE:20231225
END:VEVENT
END:VCALENDAR
