BEGIN:VCALENDAR
VERSION:2.0
PRODID:SchoolNow
CALSCALE:GREGORIAN
BEGIN:VEVENT
UID:5ef59f56-952b-11ee-ac50-028f7b2e39e9
DTSTAMP:20231207T180640Z
SUMMARY:Gingerbread House Decorating
URL;VALUE=URI:https://www.wildernesslakecdd.org/calendar/4988356/gingerbrea
 d-house-decorating
DTSTART:20231222T230000Z
DTEND:20231223T010000Z
END:VEVENT
END:VCALENDAR
