BEGIN:VCALENDAR
VERSION:2.0
PRODID:SchoolNow
CALSCALE:GREGORIAN
BEGIN:VEVENT
UID:49a03a6c-952b-11ee-aba1-0a58a9feac02
DTSTAMP:20231207T180604Z
SUMMARY:House Decorating Contest
URL;VALUE=URI:https://www.wildernesslakecdd.org/calendar/4988355/house-deco
 rating-contest
DTSTART:20231221T000000Z
DTEND:20231221T010000Z
END:VEVENT
END:VCALENDAR
