BEGIN:VCALENDAR
VERSION:2.0
PRODID:SchoolNow
CALSCALE:GREGORIAN
BEGIN:VEVENT
UID:35f401b0-952b-11ee-aa58-0a58a9feac02
DTSTAMP:20231207T180531Z
SUMMARY:Breakfast W/ Santa
URL;VALUE=URI:https://www.wildernesslakecdd.org/calendar/4988354/breakfast-
 w-santa
DTSTART:20231216T150000Z
DTEND:20231216T170000Z
END:VEVENT
END:VCALENDAR
