BEGIN:VCALENDAR
VERSION:2.0
PRODID:SchoolNow
CALSCALE:GREGORIAN
BEGIN:VEVENT
UID:1dbdbe9c-952b-11ee-a7a9-0a58a9feac02
DTSTAMP:20231207T180451Z
SUMMARY:ARC Meeting - Dec. 11th
URL;VALUE=URI:https://www.wildernesslakecdd.org/calendar/4988353/arc-meetin
 g-dec-11th
DTSTART:20231211T233000Z
DTEND:20231212T003000Z
END:VEVENT
END:VCALENDAR
