BEGIN:VCALENDAR
VERSION:2.0
PRODID:SchoolNow
CALSCALE:GREGORIAN
BEGIN:VEVENT
UID:df460728-952a-11ee-8c85-0ec406b97dad
DTSTAMP:20231207T180306Z
SUMMARY:Sip & Paint - Jan. 19th
URL;VALUE=URI:https://www.wildernesslakecdd.org/calendar/4988352/sip-paint-
 jan-19th
DTSTART:20240119T230000Z
DTEND:20240120T013000Z
END:VEVENT
END:VCALENDAR
