BEGIN:VCALENDAR
VERSION:2.0
PRODID:SchoolNow
CALSCALE:GREGORIAN
BEGIN:VEVENT
UID:c08f8944-952a-11ee-b19f-0a58a9feac02
DTSTAMP:20231207T180214Z
SUMMARY:Storytime - Jan. 22nd
URL;VALUE=URI:https://www.wildernesslakecdd.org/calendar/4988351/storytime-
 jan-22nd
DTSTART:20240122T150000Z
DTEND:20240122T160000Z
END:VEVENT
END:VCALENDAR
