BEGIN:VCALENDAR
VERSION:2.0
PRODID:SchoolNow
CALSCALE:GREGORIAN
BEGIN:VEVENT
UID:ade1e5ee-952a-11ee-a029-025f09ff5c9d
DTSTAMP:20231207T180143Z
SUMMARY:Storytime - Jan. 15th
URL;VALUE=URI:https://www.wildernesslakecdd.org/calendar/4988350/storytime-
 jan-15th
DTSTART:20240115T150000Z
DTEND:20240115T160000Z
END:VEVENT
END:VCALENDAR
