BEGIN:VCALENDAR
VERSION:2.0
PRODID:SchoolNow
CALSCALE:GREGORIAN
BEGIN:VEVENT
UID:9dd59ae2-952a-11ee-88b0-0a58a9feac02
DTSTAMP:20231207T180116Z
SUMMARY:Storytime - Jan. 8th
URL;VALUE=URI:https://www.wildernesslakecdd.org/calendar/4988349/storytime-
 jan-8th
DTSTART:20240108T150000Z
DTEND:20240108T160000Z
END:VEVENT
END:VCALENDAR
