BEGIN:VCALENDAR
VERSION:2.0
PRODID:SchoolNow
CALSCALE:GREGORIAN
BEGIN:VEVENT
UID:8b20656c-952a-11ee-ae7e-0aafd486b989
DTSTAMP:20231207T180045Z
SUMMARY:Storytime - Dec. 18th
URL;VALUE=URI:https://www.wildernesslakecdd.org/calendar/4988348/storytime-
 dec-18th
DTSTART:20231218T150000Z
DTEND:20231218T160000Z
END:VEVENT
END:VCALENDAR
