BEGIN:VCALENDAR
VERSION:2.0
PRODID:SchoolNow
CALSCALE:GREGORIAN
BEGIN:VEVENT
UID:7fffd6ea-952a-11ee-8bd9-026eaab30443
DTSTAMP:20231207T180026Z
SUMMARY:Storytime - Dec. 11th
URL;VALUE=URI:https://www.wildernesslakecdd.org/calendar/4988347/storytime-
 dec-11th
DTSTART:20231211T150000Z
DTEND:20231211T160000Z
END:VEVENT
END:VCALENDAR
